BEGIN:VCALENDAR
VERSION:2.0
PRODID:-//Evolve with Tej - ECPv6.15.20//NONSGML v1.0//EN
CALSCALE:GREGORIAN
METHOD:PUBLISH
X-WR-CALNAME:Evolve with Tej
X-ORIGINAL-URL:https://evolvewithtej.com
X-WR-CALDESC:Events for Evolve with Tej
REFRESH-INTERVAL;VALUE=DURATION:PT1H
X-Robots-Tag:noindex
X-PUBLISHED-TTL:PT1H
BEGIN:VTIMEZONE
TZID:America/Chicago
BEGIN:DAYLIGHT
TZOFFSETFROM:-0600
TZOFFSETTO:-0500
TZNAME:CDT
DTSTART:20210314T080000
END:DAYLIGHT
BEGIN:STANDARD
TZOFFSETFROM:-0500
TZOFFSETTO:-0600
TZNAME:CST
DTSTART:20211107T070000
END:STANDARD
BEGIN:DAYLIGHT
TZOFFSETFROM:-0600
TZOFFSETTO:-0500
TZNAME:CDT
DTSTART:20220313T080000
END:DAYLIGHT
BEGIN:STANDARD
TZOFFSETFROM:-0500
TZOFFSETTO:-0600
TZNAME:CST
DTSTART:20221106T070000
END:STANDARD
BEGIN:DAYLIGHT
TZOFFSETFROM:-0600
TZOFFSETTO:-0500
TZNAME:CDT
DTSTART:20230312T080000
END:DAYLIGHT
BEGIN:STANDARD
TZOFFSETFROM:-0500
TZOFFSETTO:-0600
TZNAME:CST
DTSTART:20231105T070000
END:STANDARD
BEGIN:DAYLIGHT
TZOFFSETFROM:-0600
TZOFFSETTO:-0500
TZNAME:CDT
DTSTART:20240310T080000
END:DAYLIGHT
BEGIN:STANDARD
TZOFFSETFROM:-0500
TZOFFSETTO:-0600
TZNAME:CST
DTSTART:20241103T070000
END:STANDARD
BEGIN:DAYLIGHT
TZOFFSETFROM:-0600
TZOFFSETTO:-0500
TZNAME:CDT
DTSTART:20250309T080000
END:DAYLIGHT
BEGIN:STANDARD
TZOFFSETFROM:-0500
TZOFFSETTO:-0600
TZNAME:CST
DTSTART:20251102T070000
END:STANDARD
BEGIN:DAYLIGHT
TZOFFSETFROM:-0600
TZOFFSETTO:-0500
TZNAME:CDT
DTSTART:20260308T080000
END:DAYLIGHT
BEGIN:STANDARD
TZOFFSETFROM:-0500
TZOFFSETTO:-0600
TZNAME:CST
DTSTART:20261101T070000
END:STANDARD
END:VTIMEZONE
BEGIN:VEVENT
DTSTART;VALUE=DATE:20231003
DTEND;VALUE=DATE:20241004
DTSTAMP:20260421T102730
CREATED:20231003T180957Z
LAST-MODIFIED:20231003T204524Z
UID:1209-1696291200-1727999999@evolvewithtej.com
SUMMARY:Evolve into Productivity
DESCRIPTION:Evolve into Productivity\nOn-Demand Video Course\nLearn how to use the moon phases to be more productive in your life. \n\nHave you ever wondered how to be more efficient and effective in your life? The moon phases offer key insights for your productivity and this course will teach you how to use them. \nWhat You’ll Learn:\n\nWhy the Moon is a Useful Tool\nThe Energy of a New Moon\nWhat to do during a Waxing Moon\nThe Power of the Full Moon\nHow to utilize a Waning Moon\n\nWho’s this course for?\nThis course is designed for individuals who desire to lead more effective and efficient lives. It is helpful for those who notice energetic shifts throughout the month and are interested in honoring these cycles of time. Anyone who has interest in astrology will benefit from this course\, however\, this course was created for all levels of astrological knowledge. \nMore about the course:\nThis is a 25 minute course divided into 7 easy-to-understand videos. You’ll receive 2 worksheets to support your understanding of the material. The on-demand course can be watched on your schedule\, and you’ll receive lifetime access to view the videos as many times as you wish. \n\nEvolve into Productivity: Course Fees\n$59 for Lifetime Access\nRegistration
URL:https://evolvewithtej.com/event/evolve-into-productivity/
LOCATION:TX
ATTACH;FMTTYPE=image/png:https://evolvewithtej.com/wp-content/uploads/2023/10/YYT-Graphics-2-2.png
END:VEVENT
BEGIN:VEVENT
DTSTART;VALUE=DATE:20231012
DTEND;VALUE=DATE:20241018
DTSTAMP:20260421T102730
CREATED:20231012T164209Z
LAST-MODIFIED:20231026T203953Z
UID:1235-1697068800-1729209599@evolvewithtej.com
SUMMARY:SHINE Walking Meditation: On-Demand
DESCRIPTION:Walking Meditation\nDownloadable & On-Demand\nA meditation to support you in demonstrating who you want to be until you ultimately become it. \n$15\nPurchase \n\nWalking meditations transition you from the seated practice on your mat to the outer-world where you can demonstrate the internal changes you’ve created. \nThis meditation is designed to help you SHINE and support you in becoming the light in your own life. \nIt is time for you to demonstrate this energy in each facet of your life\, and in turn\, you’ll inspire others to do the same. \n\nMeditation Length: 22 minutes \nMusic: Valley of Hope by Roan Portman
URL:https://evolvewithtej.com/event/solar-eclipse-walking-meditation-on-demand/
LOCATION:TX
ATTACH;FMTTYPE=image/png:https://evolvewithtej.com/wp-content/uploads/2023/10/Shine-Walking-Meditation.png
END:VEVENT
BEGIN:VEVENT
DTSTART;VALUE=DATE:20231031
DTEND;VALUE=DATE:20251101
DTSTAMP:20260421T102730
CREATED:20231031T204059Z
LAST-MODIFIED:20231031T204155Z
UID:1311-1698710400-1761955199@evolvewithtej.com
SUMMARY:Evolve into Health
DESCRIPTION:Evolve into Health\nOn-Demand Health Program\nAn interactive program to help bring your body\, mind\, and spirit back into a state of health. \nRegistration \n\nThere is innate wisdom within your body which has the power to heal. This course uses video lectures\, self-awareness practices\, yoga & meditation to awaken the healing potential within you. \nThis 4-week program is designed for you to self-initiate health into your life. \nWhat You’ll Learn:\n\nHow to call energy back into your body for healing\nThe biology of the stress response and how it relates to health\nCultivating the state of being required to live a healthy life\nEmbodying your new healthy life\n\nWhat You’ll Receive:\n\n4 Interactive Video Lectures\n2 Yoga & Meditation Sessions\nMorning & Evening Meditations\nWalking Meditation\n\nWho is This Program For?\nThis program is for self-initiating individuals who are ready to create life changes for a healthy state of being. This content is useful for those who are able to safely engage with yoga\, meditation\, journaling\, and self-awareness practices. \nMore About the Program:\nThis is a 4-week program. You can expect a weekly interactive lecture class with yoga and/or meditation practices. Each week builds on the previous one and completes with an embodiment of everything you’ve learned. \nTime Expectations:\nIt is recommended to have 60-90 minutes once a week for the video lectures. Three or more times per week\, you’ll have 10-30 minutes of yoga or meditation practices to enhance your progress. \n\nEvolve into Health: Program Fees\n$199 for Lifetime Access\nRegistration \nThere are no refunds on this course.
URL:https://evolvewithtej.com/event/evolve-into-health/
LOCATION:TX
CATEGORIES:Ongoing
ATTACH;FMTTYPE=image/png:https://evolvewithtej.com/wp-content/uploads/2023/10/Evolve-into-Health-1.png
END:VEVENT
BEGIN:VEVENT
DTSTART;VALUE=DATE:20220601
DTEND;VALUE=DATE:20220701
DTSTAMP:20260421T102730
CREATED:20220618T233522Z
LAST-MODIFIED:20230829T235016Z
UID:324-1654041600-1656633599@evolvewithtej.com
SUMMARY:Transformational Guidance Session
DESCRIPTION:Transformational Guidance Session\nHealing\, Manifesting & Creating\n$155\nPurchase & Schedule \n\nThere is immense power in you and it’s time to harness it. Life experiences and the human condition can create emotional patterns and habituations that hinder evolution. These sessions teach you the basic biological response to stress and how to implement practices to overcome these primal responses. You will learn how to free up energy for healing\, manifesting\, and creating the life you want and deserve. \nWhat to expect:\nThese sessions are done virtually by Zoom and can be catered to the topics on which you’d like to focus. \nTej will guide you step-by-step and teach you about why this process works so powerfully in relationship to your biology. \n\nFirst\, you’ll indicate the topics on which you’d like to focus (healing\, abundance\, creating more love\, ect).\nNext\, you’ll reflect on how you’ve been thinking\, feeling\, and behaving in your life\nThen\, you’ll designate a better way of being in your life\nFinally\, you’ll name the steps to take when challenges show up\n\nAfter the session\, you’ll receive a document that outlines everything we’ve covered and a simple practice to help you incorporate this new way of being. \nAfter purchase\, you will receive a link to fill out an information request. When you send in your information request\, Tej will reach out with a time that works best for the session. \nPurchase & Schedule \nNote: These sessions are transferrable and non-refundable.
URL:https://evolvewithtej.com/event/yoga-or-mentoring-session/
LOCATION:TX
CATEGORIES:Ongoing
ATTACH;FMTTYPE=image/png:https://evolvewithtej.com/wp-content/uploads/2022/06/Transformational-Logo.png
END:VEVENT
BEGIN:VEVENT
DTSTART;VALUE=DATE:20240202
DTEND;VALUE=DATE:20240205
DTSTAMP:20260421T102730
CREATED:20230704T215128Z
LAST-MODIFIED:20240118T171547Z
UID:965-1706832000-1707091199@evolvewithtej.com
SUMMARY:Yoga & Astrology Training - Austin\, TX
DESCRIPTION:Yoga & Astrology Training: \nThe Sun\, Moon\, and Cycles of Time\nFebruary 2-4\, 2024 \nAustin\, Texas \nLearn how to incorporate astrological cycles into your yoga practice & teaching! \n\nWhat to Expect in the Yoga & Astrology Training:\nJoin Vedic Astrologer and yoga teacher trainer\, Tej\, for a weekend immersion to learn how to integrate major astrological cycles into your yoga practice\, teachings\, and life.  \nThis course will focus on: \n\nMoon Phases\nEclipses\nSolstices\nEquinoxes\n\nAncients have known that there is an opportune time for all activities and this immersion will give you the keys to unlock your efficacy.  \nDuring this empowering weekend\, you will learn how to:  \n\nKeep track of major astrological cycles\nPractice & teach yoga according to the cycles\nEvolve your life by timing actions & yoga practices purposefully\nSupport others through offering timely yoga practices\n\nPlus\, the moon will be in the Vedic sign of Scorpio during our weekend\, which makes it an ideal time to dive deep into the occult subjects of transformation. \n\nWho is suited for the Yoga & Astrology Training?\nThis weekend immersion is for Hatha & Kundalini yoga teachers and yoga practitioners who desire to evolve their teachings and practice by honoring the astrological cycles of time. \n\nCertifications for the Yoga & Astrology Training\nUpon conclusion of this course\, you will receive a certificate of completion. \nThis course is an approved 12-hour CEU course through Yoga Alliance (YACEP) \n \n\nSchedule:\nFebruary 2-4\, 2024 \nFriday 5:30-8:30 pm \nSaturday 2:00-6:30 pm \nSunday 2:00-6:30 pm \n\nCourse Fees:\n$295 \nInformation & Registration \n\nFrequently Asked Questions\nDo I need to know about astrology? \nNope! This course is open to all levels of astrological knowledge. \nWill there be yoga practices? \nYes! Depending on who’s in the room\, Tej will incorporate both Hatha & Kundalini practices each day. \nWhat do I need to bring? \nYoga mat\, comfortable clothes\, water bottle\, journal\, pen\, and an open mind! \nDo I need to be a yoga teacher? \nNope! While there will be information given that is suited to yoga teachers\, this course is open and suitable for practitioners of yoga who want to deepen their practice.
URL:https://evolvewithtej.com/event/yoga-astrology-training-austin-tx/
LOCATION:Flow Yoga Westgate\, 4477 S. Lamar Blvd\, Austin\, TX\, 78745\, United States
CATEGORIES:Group Learning & Experiences
ATTACH;FMTTYPE=image/jpeg:https://evolvewithtej.com/wp-content/uploads/2023/07/yoga-astrology-training-1.jpg
END:VEVENT
BEGIN:VEVENT
DTSTART;TZID=America/Chicago:20240107T190000
DTEND;TZID=America/Chicago:20240107T203000
DTSTAMP:20260421T102730
CREATED:20231114T213452Z
LAST-MODIFIED:20240325T153914Z
UID:1337-1704654000-1704659400@evolvewithtej.com
SUMMARY:New Month: Tarot\, Yoga & Meditation
DESCRIPTION:Reserve Your Space \nNew Month: Tarot\, Yoga & Meditation \nFirst Sunday of the Month \n7:00-8:30 pm \nFlowmagin: 2505 E. 6th Street\, Austin\, TX \n\nFREE for Flow Yoga Studio Members \n$15 for Non-Members \nReserve Your Space \n\nJoin Tej for a new month event featuring tarot\, yoga\, and meditation. This event is perfect for anyone looking to gain clarity and start the month off on a positive note. \nThe event will start with a tarot reading\, followed by a themed yoga class and a meditation session. The tarot reading will help you gain insights into this upcoming month. The yoga class will help you relax and de-stress\, and the meditation session will help you clear your mind and focus on the present moment. \nThis event is open to all levels of experience\, so whether you’re a beginner or a seasoned pro\, you’re welcome to join. \nReserve Your Space
URL:https://evolvewithtej.com/event/new-month-tarot-yoga-meditation/
LOCATION:Flowmagin\, 2505 E. 6th Street\, Austin\, TX\, 78702\, United States
CATEGORIES:Group Learning & Experiences,Sunday Events
ATTACH;FMTTYPE=image/png:https://evolvewithtej.com/wp-content/uploads/2023/11/YYT-Graphics-1-4-1.png
END:VEVENT
END:VCALENDAR