BEGIN:VCALENDAR
VERSION:2.0
PRODID:-//Evolve with Tej - ECPv6.15.20//NONSGML v1.0//EN
CALSCALE:GREGORIAN
METHOD:PUBLISH
X-WR-CALNAME:Evolve with Tej
X-ORIGINAL-URL:https://evolvewithtej.com
X-WR-CALDESC:Events for Evolve with Tej
REFRESH-INTERVAL;VALUE=DURATION:PT1H
X-Robots-Tag:noindex
X-PUBLISHED-TTL:PT1H
BEGIN:VTIMEZONE
TZID:America/Chicago
BEGIN:DAYLIGHT
TZOFFSETFROM:-0600
TZOFFSETTO:-0500
TZNAME:CDT
DTSTART:20210314T080000
END:DAYLIGHT
BEGIN:STANDARD
TZOFFSETFROM:-0500
TZOFFSETTO:-0600
TZNAME:CST
DTSTART:20211107T070000
END:STANDARD
BEGIN:DAYLIGHT
TZOFFSETFROM:-0600
TZOFFSETTO:-0500
TZNAME:CDT
DTSTART:20220313T080000
END:DAYLIGHT
BEGIN:STANDARD
TZOFFSETFROM:-0500
TZOFFSETTO:-0600
TZNAME:CST
DTSTART:20221106T070000
END:STANDARD
BEGIN:DAYLIGHT
TZOFFSETFROM:-0600
TZOFFSETTO:-0500
TZNAME:CDT
DTSTART:20230312T080000
END:DAYLIGHT
BEGIN:STANDARD
TZOFFSETFROM:-0500
TZOFFSETTO:-0600
TZNAME:CST
DTSTART:20231105T070000
END:STANDARD
END:VTIMEZONE
BEGIN:VEVENT
DTSTART;TZID=America/Chicago:20220417T150000
DTEND;TZID=America/Chicago:20220417T163000
DTSTAMP:20260425T181800
CREATED:20220402T231926Z
LAST-MODIFIED:20220402T231926Z
UID:286-1650207600-1650213000@evolvewithtej.com
SUMMARY:Astrology Webinar: Your Moon Sign & Jupiter
DESCRIPTION:Your Moon Sign & The Joy of Jupiter\nAstrology Webinar\nSunday\, April 17th \n3:00-4:30 pm CDT \nRegistration \n\nLearn about the exciting upcoming shift we will experience when Jupiter moves into the Vedic sign of Pisces. The Joys of Jupiter will be abundant as Tej and Mehtab guide you through what to expect based off of your Vedic Moon Sign. \nYou will have access to your Moon sign\, and the Moon signs of other people in your life\, before and during the 90-minute webinar. The webinar will also be recorded if you cannot attend in person and if you wish to review it later.
URL:https://evolvewithtej.com/event/astrology-webinar-your-moon-sign-jupiter/
LOCATION:TX
ATTACH;FMTTYPE=image/png:https://evolvewithtej.com/wp-content/uploads/2022/04/Screen-Shot-2022-04-02-at-6.18.26-PM.png
END:VEVENT
BEGIN:VEVENT
DTSTART;TZID=America/Chicago:20220416T180000
DTEND;TZID=America/Chicago:20220416T193000
DTSTAMP:20260425T181800
CREATED:20220402T225722Z
LAST-MODIFIED:20220402T230116Z
UID:276-1650132000-1650137400@evolvewithtej.com
SUMMARY:Full Moon Celebration - Online or Austin\, TX
DESCRIPTION:Full Moon Celebration\nOnline or In-Person in Austin\, TX\nSaturday\, April 16th from 6:00-7:30 pm CDT\nIn-Person Registration  \nOnline Registration  \n\nJoin Tej and Ray for a Full Moon Celebration: The Moon of Opportunity – an evening of live music\, mindful meditation\, and a gong sound healing. This Spring celebration is perfectly designed to awaken your ability to open up to opportunities. \nWe will feature Ray’s original poetry and music. Plus\, Tej will offer the Vedic Astrology forecast and lead you through mantra meditation. \nThis event is formulated for you to experience and be open to the plethora of opportunities that will arrive with this full moon. When we understand the influence of combining our intentions with elevated emotions\, we can allow and receive the opportunities that flow to us. Using the gong\, guitar\, ukulele\, drums\, and vocals\, we will reveal how the power of sound can transform and heal on this auspicious evening!
URL:https://evolvewithtej.com/event/full-moon-celebration-online-or-austin-tx/
LOCATION:Flow Yoga Westgate\, 4477 S. Lamar Blvd\, Austin\, TX\, 78745\, United States
ATTACH;FMTTYPE=image/png:https://evolvewithtej.com/wp-content/uploads/2022/04/Screen-Shot-2022-04-02-at-5.59.44-PM.png
END:VEVENT
END:VCALENDAR